Workbook

Sheet ９月１９日（土）
A1: 第 ５０ 回 秋 季 中 央 大 会 （ ９月１９日 土曜 ）
A2: ２会場 計６試合 （Ⅰ部２回戦３試合、Ⅱ部２回戦３試合）
A3: 【試合開始時刻】暑さが落ち着いてきましたので、試合開始時刻を通常に戻します。
A4: 【試合会場変更】（当初の中田ＳＣから）海保グランドへ変更
A5: 【投球数記録係】投球数記録係、試合チーム各１名は、試合前トスの際に集合して下さい。
A6: 球 場 | B6: 第１試合 | E6: 第２試合 | H6: 第３試合
B7: Ⅱ部２回戦Ｎｏ２８ | C7: 開始９時３０分 | E7: Ⅱ部２回戦Ｎｏ２９ | F7: 開始:１１時３０分 | H7: Ⅱ部２回戦Ｎｏ１７ | I7: 開始:１３時３０分 | L7: 審判数
A8: 海保グランド | B8: ３７．花輪ユナイト | D8: 中央 | E8: ３９．宮野木ビーバーズ | G8: 稲毛 | H8: ４．緑町レッドイーグルス | J8: 稲毛 | K8: 中央 | L8: =COUNTIF(B6:J59,"中央区") -> 2
B9: ３８．天台バッファローズ | D9: 稲毛 | E9: ４１．武石ブルーサンダー | G9: 花見川 | H9: ６．都賀の台・高根・ホープス | J9: 若葉 | K9: 美浜 | L9: =COUNTIF(B6:J59,"美浜区") -> 1
A10: 球 場 責 任 | B10: 球 審 | C10: 若葉区 | E10: 球 審 | F10: 美浜区 | H10: 球 審 | I10: 花見川区 | K10: 稲毛 | L10: =COUNTIF(B6:J59,"稲毛区") -> 2
A11: 氏家・白金 | B11: １ 塁 | C11: 都賀の台 | E11: １ 塁 | F11: 天台 | H11: １ 塁 | I11: 武石 | K11: 若葉 | L11: =COUNTIF(B6:J59,"若葉区") -> 1
B12: ２ 塁 | C12: 緑町 | E12: ２ 塁 | F12: 花輪 | H12: ２ 塁 | I12: 宮野木 | K12: 花見川 | L12: =COUNTIF(B6:J59,"花見川区") -> 1
A13: 若葉区 | B13: ３ 塁 | C13: 都賀の台 | E13: ３ 塁 | F13: 天台 | H13: ３ 塁 | I13: 武石 | K13: 緑 | L13: =COUNTIF(B6:J59,"緑区") -> 2
B14: 控 審 | C14: 緑町 | E14: 控 審 | F14: 花輪 | H14: 控 審 | I14: 宮野木 | K14: 合計 | L14: =SUM(L8:L13) -> 9
A15: 球 場 | B15: 第１試合 | E15: 第２試合 | H15: 第３試合
B16: Ⅰ部２回戦Ｎｏ２６ | C16: 開始９時３０分 | E16: Ⅰ部２回戦Ｎｏ２９ | F16: 開始１１時３０分 | H16: Ⅰ部２回戦Ｎｏ２１ | I16: 開始:１３時３０分
A17: 平川球場 | B17: ３１．平川ファイターズ | D17: 緑 | E17: ３９．園生わかば | G17: 稲毛 | H17: １５．わかしおタイガース | J17: 稲毛
B18: ３３．小倉台ライガース | D18: 若葉 | E18: ４０．真砂シーホークス | G18: 美浜 | H18: １８．幕西ファイヤーズ | J18: 美浜
A19: 球 場 責 任 | B19: 球 審 | C19: 稲毛区 | E19: 球 審 | F19: 中央区 | H19: 球 審 | I19: 緑区
A20: 日暮 | B20: １ 塁 | C20: わかしお | E20: １ 塁 | F20: 平川 | H20: １ 塁 | I20: 園生
B21: ２ 塁 | C21: =C19 -> 稲毛区 | E21: ２ 塁 | F21: =F19 -> 中央区 | H21: ２ 塁 | I21: =I19 -> 緑区
A22: 緑区 | B22: ３ 塁 | C22: 幕西 | E22: ３ 塁 | F22: 小倉台 | H22: ３ 塁 | I22: 真砂
B23: 控 審 | C23: わかしお／幕西 | E23: 控 審 | F23: 平川／小倉台 | H23: 控 審 | I23: 園生／真砂
A25: ☆ 試合予定チームは、試合予定１時間前迄に球場に到着し、球場責任者に到着報告を行って下さい。
A26: ☆ 駐車台数に限りがあります。近隣路上駐車は厳禁です。応援車両もふくめ乗り合わせにご協力下さい。
A27: ☆ グランドキーパーは全チームでお願い致します。
A28: 第１試合両チームは各２名以上、試合予定１時間前に集合し、グランド作りを行います。（サイズ表事前準備要）
A29: 第２、第３試合両チームはグランド整備後、ゴミ・忘れ物の確認をお願いします。
A30: ☆ ゴミ・空き缶・ペットボトル等の置き去りが最近多くなりました。マナーを守って球場美化にご協力願います。
A31: 各チームで必ずゴミ袋を持参して下さい。

Sheet ９月２０日（日）
A1: 第 ５０ 回 秋 季 中 央 大 会 （ ９月２０日 日曜 ）
A2: ４会場 計１１試合 （Ⅰ部２回戦１試合、Ⅱ部２回戦９試合・３回戦１試合）
A3: 【ロッテ旗開会式（１１時完全撤収）】開会式後の移動時間を考慮して第３試合開始（１４時開始）調整 | K3: ※ロッテ旗開会式
A4: 【稲毛海浜ＡＢ】プール営業中（１０時営業開始）、晴天時の駐車場混雑にご注意下さい。
A5: 【投球数記録係】投球数記録係、試合チーム各１名は、試合前トスの際に集合して下さい。 | K5: Ⅰ部１６強まで１試合
A6: 球 場 | B6: 第１試合 | E6: 第２試合 | H6: 第３試合
B7: Ⅱ部２回戦Ｎｏ１８ | C7: 開始９時３０分 | E7: Ⅱ部３回戦Ｎｏ３８ | F7: 開始:１１時３０分 | H7: Ⅱ部２回戦Ｎｏ３１ | I7: 開始１４時００分 | L7: 審判数
A8: 宮野木ＳＣ | B8: ８．泉谷メッツ | D8: 緑 | E8: ３７．花輪／３８．天台 | G8: 中／稲 | H8: ４６．幕張昆陽クラブ | J8: 花見川 | K8: 中央 | L8: =COUNTIF(B6:J59,"中央区") -> 2
B9: １０．園生わかば | D9: 稲毛 | E9: ３９．宮野木／４１．武石 | G9: 稲／花 | H9: ４７．有吉メッツ | J9: 緑 | K9: 美浜 | L9: =COUNTIF(B6:J59,"美浜区") -> 3
A10: 球 場 責 任 | B10: 球 審 | C10: 中央区 | E10: 球 審 | F10: 緑区 | H10: 球 審 | I10: 稲毛区 | K10: 稲毛 | L10: =COUNTIF(B6:J59,"稲毛区") -> 1
A11: 松尾 | B11: １ 塁 | C11: 有吉 | E11: １ 塁 | F11: 園生 | H11: １ 塁 | I11: 宮野木or武石 | K11: 若葉 | L11: =COUNTIF(B6:J59,"若葉区") -> 2
B12: ２ 塁 | C12: 幕張昆陽 | E12: ２ 塁 | F12: 泉谷 | H12: ２ 塁 | I12: 花輪or天台 | K12: 花見川 | L12: =COUNTIF(B6:J59,"花見川区") -> 2
A13: 稲毛区 | B13: ３ 塁 | C13: 有吉 | E13: ３ 塁 | F13: 園生 | H13: ３ 塁 | I13: 宮野木or武石 | K13: 緑 | L13: =COUNTIF(B6:J59,"緑区") -> 2
B14: 控 審 | C14: 幕張昆陽 | E14: 控 審 | F14: 泉谷 | H14: 控 審 | I14: 花輪or天台 | K14: 合計 | L14: =SUM(L8:L13) -> 12
A15: 球 場 | B15: 第１試合 | E15: 第２試合 | H15: １５時：中央区連盟開会式
B16: Ⅱ部２回戦Ｎｏ２２ | C16: 開始９時３０分 | E16: Ⅱ部２回戦Ｎｏ２３ | F16: 開始:１１時３０分
A17: 古市場 | B17: １９．幕張ヒーローズ | D17: 花見川 | E17: ２３．今井ジュニアビーバーズ | G17: 中央
B18: ２１．誉田ベアーズ | D18: 緑 | E18: ２４．打瀬ベイバスターズ | G18: 美浜
A19: 球 場 責 任 | B19: 球 審 | C19: 中央区 | E19: 球 審 | F19: 緑区
A20: 吉川・舘野 | B20: １ 塁 | C20: 打瀬 | E20: １ 塁 | F20: 誉田
B21: ２ 塁 | C21: 今井 | E21: ２ 塁 | F21: 幕張Ｈ
A22: 中央区 | B22: ３ 塁 | C22: 打瀬 | E22: ３ 塁 | F22: 誉田
B23: 控 審 | C23: 今井 | E23: 控 審 | F23: 幕張Ｈ
A24: 球 場 | B24: 第１試合 | E24: 第２試合 | H24: 第３試合
B25: Ⅱ部２回戦Ｎｏ２５ | C25: 開始９時３０分 | E25: Ⅱ部２回戦Ｎｏ２１ | F25: 開始:１１時３０分 | H25: Ⅱ部２回戦Ｎｏ２６ | I25: 開始１４時００分
A26: 稲毛海浜Ａ | B26: ２８．検見川クラブ | D26: 花見川 | E26: １５．みつわ台スラッガーズ | G26: 若葉 | H26: ３１．平川ファイターズ | J26: 緑
B27: ３０．あすみが丘コスモスキッド | D27: 緑 | E27: １７．小中台ＪＢＣ | G27: 稲毛 | H27: ３４．生浜ヤンキース | J27: 中央
A28: 球 場 責 任 | B28: 球 審 | C28: 若葉区 | E28: 球 審 | F28: 花見川区 | H28: 球 審 | I28: 花見川区
A29: 伊藤・浅野・齋藤 | B29: １ 塁 | C29: 生浜 | E29: １ 塁 | F29: あすみが丘 | H29: １ 塁 | I29: 小中台
B30: ２ 塁 | C30: 平川 | E30: ２ 塁 | F30: 検見川 | H30: ２ 塁 | I30: みつわ台
A31: 花見川区 | B31: ３ 塁 | C31: 生浜 | E31: ３ 塁 | F31: あすみが丘 | H31: ３ 塁 | I31: 小中台
B32: 控 審 | C32: 平川 | E32: 控 審 | F32: 検見川 | H32: 控 審 | I32: みつわ台
A33: 球 場 | B33: 第１試合 | E33: 第２試合 | H33: 第３試合
B34: Ⅰ部２回戦Ｎｏ３０ | C34: 開始:９時３０分 | E34: Ⅱ部２回戦Ｎｏ２４ | F34: 開始:１１時３０分 | H34: Ⅱ部２回戦Ｎｏ３０ | I34: 開始１４時００分
A35: 稲毛海浜Ｂ | B35: ４２．花園ライオンズ | D35: 花見川 | E35: ２５．小倉台ライガース | G35: 若葉 | H35: ４３．磯辺シャークス | J35: 美浜
B36: ４５．穴川タイガース | D36: 稲毛 | E36: ２６．わかしおタイガース | G36: 稲毛 | H36: ４５．稲丘ベアーズ | J36: 稲毛
A37: 球 場 責 任 | B37: 球 審 | C37: 美浜区 | E37: 球 審 | F37: 美浜区 | H37: 球 審 | I37: 若葉区
A38: 加藤・上野 | B38: １ 塁 | C38: 磯辺 | E38: １ 塁 | F38: 穴川 | H38: １ 塁 | I38: わかしお
B39: ２ 塁 | C39: =C37 -> 美浜区 | E39: ２ 塁 | F39: 花園 | H39: ２ 塁 | I39: 小倉台
A40: 美浜区 | B40: ３ 塁 | C40: 稲丘 | E40: ３ 塁 | F40: 穴川 | H40: ３ 塁 | I40: わかしお
B41: 控 審 | C41: 磯辺／稲丘 | E41: 控 審 | F41: 花園 | H41: 控 審 | I41: 小倉台
A43: ☆ 試合予定チームは、試合予定１時間前迄に球場に到着し、球場責任者に到着報告を行って下さい。
A44: ☆ 駐車台数に限りがあります。近隣路上駐車は厳禁です。応援車両もふくめ乗り合わせにご協力下さい。
A45: ☆ グランドキーパーは全チームでお願い致します。
A46: 第１試合両チームは各２名以上、試合予定１時間前に集合し、グランド作りを行います。（サイズ表事前準備要）
A47: 第２、第３試合両チームはグランド整備後、ゴミ・忘れ物の確認をお願いします。
A48: ☆ ゴミ・空き缶・ペットボトル等の置き去りが最近多くなりました。マナーを守って球場美化にご協力願います。
A49: 各チームで必ずゴミ袋を持参して下さい。

Sheet ９月２１日（祝月）
A1: 第 ５０ 回 秋 季 中 央 大 会 （ ９月２１日 祝・月曜 ）
A2: ５会場 計１３試合 （Ⅰ部２回戦１試合、Ⅱ部２回戦３試合・３回戦４試合、低学年５試合）
A3: 【有吉公園】駐車台数制限あり、駐車場混雑対策で第２試合開始（１２時００分開始）
A4: 【稲毛海浜ＡＢ】プール営業中（１０時営業開始）、晴天時の駐車場混雑にご注意下さい。
A5: 【投球数記録係】投球数記録係、試合チーム各１名は、試合前トスの際に集合して下さい。 | K5: Ⅰ部１６強決定
A6: 球 場 | B6: 第１試合 | E6: 第２試合 | H6: 第３試合
B7: Ⅱ部２回戦Ｎｏ１８ | C7: 開始９時３０分 | E7: Ⅱ部３回戦Ｎｏ３２ | F7: 開始:１１時３０分 | H7: Ⅱ部２回戦Ｎｏ２０ | I7: 開始:１３時３０分 | L7: 審判数
A8: こてはし | B8: １１．真砂シーホークス | D8: 美浜 | E8: １．ヤング穴川連合 | G8: 稲毛 | H8: １３．花見川ヒューガーズ | J8: 花見川 | K8: 中央 | L8: =COUNTIF(B6:J59,"中央区") -> 2
B9: １２．桜木ライオンズ | D9: 若葉 | E9: ４．緑町／６．都賀の台 | G9: 稲／若 | H9: １４．土気グリーンウエーブ | J9: 緑 | K9: 美浜 | L9: =COUNTIF(B6:J59,"美浜区") -> 3
A10: 球 場 責 任 | B10: 球 審 | C10: 花見川区 | E10: 球 審 | F10: 美浜区 | H10: 球 審 | I10: 稲毛区 | K10: 稲毛 | L10: =COUNTIF(B6:J59,"稲毛区") -> 2
A11: 前川・今西 | B11: １ 塁 | C11: 土気 | E11: １ 塁 | F11: 桜木 | H11: １ 塁 | I11: 緑町or都賀の台 | K11: 若葉 | L11: =COUNTIF(B6:J59,"若葉区") -> 2
B12: ２ 塁 | C12: 花見川H | E12: ２ 塁 | F12: 真砂 | H12: ２ 塁 | I12: ヤング穴川 | K12: 花見川 | L12: =COUNTIF(B6:J59,"花見川区") -> 3
A13: 稲毛区 | B13: ３ 塁 | C13: 土気 | E13: ３ 塁 | F13: 桜木 | H13: ３ 塁 | I13: 緑町or都賀の台 | K13: 緑 | L13: =COUNTIF(B6:J59,"緑区") -> 2
B14: 控 審 | C14: 花見川H | E14: 控 審 | F14: 真砂 | H14: 控 審 | I14: ヤング穴川 | K14: 合計 | L14: =SUM(L8:L13) -> 14
A15: 球 場 | B15: 第１試合 | E15: 第２試合
B16: 低学年２回戦Ｎｏ１７ | C16: 開始９時３０分 | E16: 低学年２回戦Ｎｏ２０ | F16: 開始:１１時３０分
A17: 花島公園 | B17: １．愛生グレート | D17: 若葉 | E17: １３．千城台レッドシャーク | G17: 若葉
B18: ４．磯辺シーグルス | D18: 美浜 | E18: １６．打瀬ベイバスターズ | G18: 美浜
A19: 球 場 責 任 | B19: 球 審 | C19: 花見川区 | E19: 球 審 | F19: 花見川区
A20: 髙橋・伊藤・齋藤 | B20: １ 塁 | C20: 打瀬 | E20: １ 塁 | F20: 磯辺
B21: ２ 塁 | C21: 千城台 | E21: ２ 塁 | F21: 愛生
A22: 花見川区 | B22: ３ 塁 | C22: 打瀬 | E22: ３ 塁 | F22: 磯辺
B23: 控 審 | C23: 千城台 | E23: 控 審 | F23: 愛生
A24: 球 場 | B24: 第１試合 | E24: 第２試合 | H24: チーム指定車：各クラブ３台
B25: Ⅰ部２回戦Ｎｏ２２ | C25: 開始９時３０分 | E25: Ⅱ部３回戦Ｎｏ３９ | F25: 開始:１２時００分 | H25: ＋審判車（帯同審判）１台
A26: 有吉公園 | B26: １９．宮野木ビーバーズ | D26: 稲毛 | E26: ４３．磯辺／４５．稲丘 | G26: 美／稲 | H26: 審判車（派遣審判）と、チーム指定車は、３塁側ベンチ裏へ駐車して下さい。
B27: ２１．泉谷メッツ | D27: 緑 | E27: ４６．幕張／４７．有吉 | G27: 花／緑
A28: 球 場 責 任 | B28: 球 審 | C28: 若葉区 | E28: 球 審 | F28: 中央区
A29: 戸村・伊藤 | B29: １ 塁 | C29: 磯辺or稲丘 | E29: １ 塁 | F29: 泉谷 | H29: 上記以外は、泉谷小へ駐車して下さい。
B30: ２ 塁 | C30: =C28 -> 若葉区 | E30: ２ 塁 | F30: 宮野木
A31: 緑区 | B31: ３ 塁 | C31: 幕張or有吉 | E31: ３ 塁 | F31: 泉谷
B32: 控 審 | C32: 磯辺or稲丘／幕張or有吉 | E32: 控 審 | F32: 宮野木
A33: 球 場 | B33: 第１試合 | E33: 第２試合 | H33: 第３試合
B34: 低学年１回戦Ｎｏ６ | C34: 開始９時３０分 | E34: 低学年２回戦Ｎｏ３ | F34: 開始:１１時３０分 | H34: 低学年１回戦Ｎｏ１５ | I34: 開始:１３時３０分
A35: 稲毛海浜Ａ | B35: １１．稲荷・花輪連合 | D35: 中央 | E35: ５．生浜ヤンキース | G35: 中央 | H35: ２９．大森フライヤーズ | J35: 中央
B36: １２．泉谷メッツ | D36: 緑 | E36: ６．幕西ファイヤーズ | G36: 美浜 | H36: ３０．山王ドジャーズ | J36: 稲毛
A37: 球 場 責 任 | B37: 球 審 | C37: 美浜区 | E37: 球 審 | F37: 緑区 | H37: 球 審 | I37: 美浜区
B38: １ 塁 | C38: 山王 | E38: １ 塁 | F38: 泉谷 | H38: １ 塁 | I38: 幕西
B39: ２ 塁 | C39: 大森 | E39: ２ 塁 | F39: 稲荷・花輪 | H39: ２ 塁 | I39: 生浜
A40: 中央区 | B40: ３ 塁 | C40: 山王 | E40: ３ 塁 | F40: 泉谷 | H40: ３ 塁 | I40: 幕西
B41: 控 審 | C41: 大森 | E41: 控 審 | F41: 稲荷・花輪 | H41: 控 審 | I41: 生浜
A42: 球 場 | B42: 第１試合 | E42: 第２試合 | H42: 第３試合
B43: Ⅱ部３回戦Ｎｏ２２ | C43: 開始９時３０分 | E43: Ⅱ部３回戦Ｎｏ３６ | F43: 開始:１１時３０分 | H43: Ⅱ部２回戦Ｎｏ２７ | I43: 開始:１３時３０分
A44: 稲毛海浜Ｂ | B44: １９．幕張／２１．誉田 | D44: 花／緑 | E44: ２５．小倉台／２６．わかしお | G44: 若／美 | H44: ３５．花見川ツインズ | J44: 花見川
B45: ２３．今井／２４．打瀬 | D45: 中／美 | E45: ２８・検見川／２９．あすみが丘 | G45: 花／緑 | H45: ３６．幸町リトルインディアンズ | J45: 美浜
A46: 球 場 責 任 | B46: 球 審 | C46: 稲毛区 | E46: 球 審 | F46: 中央区 | H46: 球 審 | I46: 緑区
A47: 川野・浅井 | B47: １ 塁 | C47: 幸町 | E47: １ 塁 | F47: 今井or打瀬 | H47: １ 塁 | I47: 検見川orあすみが丘
B48: ２ 塁 | C48: 花見川Ｔ | E48: ２ 塁 | F48: 幕張or誉田 | H48: ２ 塁 | I48: 小倉台orわかしお
A49: 美浜区 | B49: ３ 塁 | C49: 幸町 | E49: ３ 塁 | F49: 今井or打瀬 | H49: ３ 塁 | I49: 検見川orあすみが丘
B50: 控 審 | C50: 花見川Ｔ | E50: 控 審 | F50: 幕張or誉田 | H50: 控 審 | I50: 小倉台orわかしお
A52: ☆ 試合予定チームは、試合予定１時間前迄に球場に到着し、球場責任者に到着報告を行って下さい。
A53: ☆ 駐車台数に限りがあります。近隣路上駐車は厳禁です。応援車両もふくめ乗り合わせにご協力下さい。
A54: ☆ グランドキーパーは全チームでお願い致します。
A55: 第１試合両チームは各２名以上、試合予定１時間前に集合し、グランド作りを行います。（サイズ表事前準備要）
A56: 第２、第３試合両チームはグランド整備後、ゴミ・忘れ物の確認をお願いします。
A57: ☆ ゴミ・空き缶・ペットボトル等の置き去りが最近多くなりました。マナーを守って球場美化にご協力願います。
A58: 各チームで必ずゴミ袋を持参して下さい。

Sheet ９月２２日（祝火）
A1: 第 ５０ 回 秋 季 中 央 大 会 （ ９月２２日 祝・火曜 ）
A2: ２会場 計５試合 （Ⅱ部３回戦３試合、低学年２試合）
A3: 【みつわ台注意事項（使用時）】第１試合チームは、体育館利用者による混雑前の８時を目途に駐車してください。駐車台数は、各チーム５台（帯同審判を含む）厳守です。公園内の空きスペースにてアップし、９時にグランドイン、１０時試合開始となります。
A4: 【投球数記録係】投球数記録係、試合チーム各１名は、試合前トスの際に集合して下さい。 | K4: Ⅱ部８強決定
A5: 球 場 | B5: 第１試合 | E5: 第２試合 | H5: 第３試合
B6: Ⅱ部３回戦Ｎｏ３３ | C6: 開始９時３０分 | E6: Ⅱ部３回戦Ｎｏ３７ | F6: 開始:１１時３０分 | H6: Ⅱ部３回戦Ｎｏ３４ | I6: 開始:１３時３０分 | L6: 審判数
A7: 花島公園 | B7: ８．泉谷／１０．園生 | D7: 緑／稲 | E7: ３１．平川／３４．生浜 | G7: 緑／中 | H7: １３．花見川Ｈ／１４．土気 | J7: 花／緑 | K7: 中央 | L7: =COUNTIF(B5:J58,"中央区") -> 1
B8: １１．真砂／１２．桜木 | D8: 美／若 | E8: ３５．花見川T／３６．幸町 | G8: 花／美 | H8: １５．みつわ台／１７．小中台 | J8: 若／稲 | K8: 美浜 | L8: =COUNTIF(B5:J58,"美浜区") -> 0
A9: 球 場 責 任 | B9: 球 審 | C9: 花見川区 | E9: 球 審 | F9: 若葉区 | H9: 球 審 | I9: 中央区 | K9: 稲毛 | L9: =COUNTIF(B5:J58,"稲毛区") -> 1
A10: 丸山・浅野・髙橋 | B10: １ 塁 | C10: みつわ台or小中台 | E10: １ 塁 | F10: 真砂or桜木 | H10: １ 塁 | I10: 花見川Tor幸町 | K10: 若葉 | L10: =COUNTIF(B5:J58,"若葉区") -> 1
B11: ２ 塁 | C11: 花見川Hor土気 | E11: ２ 塁 | F11: 泉谷or園生 | H11: ２ 塁 | I11: 平川or生浜 | K11: 花見川 | L11: =COUNTIF(B5:J58,"花見川区") -> 1
A12: 花見川区 | B12: ３ 塁 | C12: みつわ台or小中台 | E12: ３ 塁 | F12: 真砂or桜木 | H12: ３ 塁 | I12: 花見川Tor幸町 | K12: 緑 | L12: =COUNTIF(B5:J58,"緑区") -> 1
B13: 控 審 | C13: 花見川Hor土気 | E13: 控 審 | F13: 泉谷or園生 | H13: 控 審 | I13: 平川or生浜 | K13: 合計 | L13: =SUM(L7:L12) -> 5
A14: 球 場 | B14: 第１試合 | E14: 第２試合
B15: 低学年１回戦Ｎｏ１４ | C15: 開始９時３０分 | E15: 低学年２回戦Ｎｏ２１ | F15: 開始:１１時３０分
A16: 宮野木ＳＣ | B16: ２７．いなげパイレーツ | D16: 稲毛 | E16: １７．ミヤコリトルベアーズ | G16: 中央
B17: ２８．小倉台ライガース | D17: 若葉 | E17: ２０．有吉メッツ | G17: 緑
A18: 球 場 責 任 | B18: 球 審 | C18: 緑区 | E18: 球 審 | F18: 稲毛区
A19: 前川・長谷川 | B19: １ 塁 | C19: 有吉 | E19: １ 塁 | F19: 小倉台
B20: ２ 塁 | C20: ミヤコ | E20: ２ 塁 | F20: いなげ
A21: 稲毛区 | B21: ３ 塁 | C21: 有吉 | E21: ３ 塁 | F21: 小倉台
B22: 控 審 | C22: ミヤコ | E22: 控 審 | F22: いなげ
A23: 球 場
A25: みつわ台
A27: 球 場 責 任
A28: 白金・堀越
A30: 若葉区
A32: 球 場
A34: 有吉公園
A36: 球 場 責 任
A39: 緑区
A42: ☆ 試合予定チームは、試合予定１時間前迄に球場に到着し、球場責任者に到着報告を行って下さい。
A43: ☆ 駐車台数に限りがあります。近隣路上駐車は厳禁です。応援車両もふくめ乗り合わせにご協力下さい。
A44: ☆ グランドキーパーは全チームでお願い致します。
... A48: 各チームで必ずゴミ袋を持参して下さい。

Sheet ９月２３日（祝水）
A1: 第 ５０ 回 秋 季 中 央 大 会 （ ９月２３日 祝・水曜 ）
A2: ２会場 計３or４試合 （低学年４or５試合）
A3: 【中田ＳＣ第３試合】武石ブルーサンダーのノーブルホームカップの勝ち上がり状況により延期の可能性あり。
A4: 【みつわ台注意事項（使用時）】第１試合チームは、体育館利用者による混雑前の８時を目途に駐車してください。駐車台数は、各チーム５台（帯同審判を含む）厳守です。公園内の空きスペースにてアップし、９時にグランドイン、１０時試合開始となります。 | K4: ５試合実施の場合、 低学年８強決定
A5: 【投球数記録係】投球数記録係、試合チーム各１名は、試合前トスの際に集合して下さい。
A6: 球 場 | B6: 第１試合 | E6: 第２試合 | H6: 第３試合 | L6: （県大会含む）
B7: 低学年２回戦Ｎｏ２４ | C7: 開始９時３０分 | E7: 低学年２回戦Ｎｏ２３ | F7: 開始:１１時３０分 | H7: 低学年２回戦Ｎｏ１９ | I7: 開始:１３時３０分 | L7: 審判数 | M7: 19～23日審判
A8: 中田ＳＣ | B8: ２９．大森／３０．山王 | D8: 中／稲 | E8: ２５．幕張昆陽クラブ | G8: 花見川 | H8: ９．武石ブルーサンダー | J8: 花見川 | K8: 中央 | L8: =COUNTIF(B6:J59,"中央区")+2 -> 2 | M8: ='９月１９日（土）'!L8+'９月２０日（日）'!L8+'９月２１日（祝月）'!L8+'９月２２日（祝火）'!L7+L8 -> 9
B9: ３２．平川ファイターズ | D9: 緑 | E9: ２７．いなげ／２８．小倉台 | G9: 稲／若 | H9: １１．稲荷花輪／１２．泉谷 | J9: 中／緑 | K9: 美浜 | L9: =COUNTIF(B6:J59,"美浜区")+2 -> 2 | M9: ='９月１９日（土）'!L9+'９月２０日（日）'!L9+'９月２１日（祝月）'!L9+'９月２２日（祝火）'!L8+L9 -> 9
A10: 球 場 責 任 | B10: 球 審 | C10: 若葉区 | E10: 球 審 | F10: 緑区 | H10: 球 審 | I10: 稲毛区 | K10: 稲毛 | L10: =COUNTIF(B6:J59,"稲毛区")+2 -> 3 | M10: ='９月１９日（土）'!L10+'９月２０日（日）'!L10+'９月２１日（祝月）'!L10+'９月２２日（祝火）'!L9+L10 -> 9
A11: 氏家・堀越 | B11: １ 塁 | C11: 稲荷花輪or泉谷 | E11: １ 塁 | F11: 平川 | H11: １ 塁 | I11: いなげor小倉台 | K11: 若葉 | L11: =COUNTIF(B6:J59,"若葉区") -> 2 | M11: ='９月１９日（土）'!L11+'９月２０日（日）'!L11+'９月２１日（祝月）'!L11+'９月２２日（祝火）'!L10+L11 -> 8
B12: ２ 塁 | C12: 武石 | E12: ２ 塁 | F12: 大森or山王 | H12: ２ 塁 | I12: 幕張昆陽 | K12: 花見川 | L12: =COUNTIF(B6:J59,"花見川区")+2 -> 2 | M12: ='９月１９日（土）'!L12+'９月２０日（日）'!L12+'９月２１日（祝月）'!L12+'９月２２日（祝火）'!L11+L12 -> 9
A13: 若葉区 | B13: ３ 塁 | C13: 稲荷花輪or泉谷 | E13: ３ 塁 | F13: 平川 | H13: ３ 塁 | I13: いなげor小倉台 | K13: 緑 | L13: =COUNTIF(B6:J59,"緑区") -> 2 | M13: ='９月１９日（土）'!L13+'９月２０日（日）'!L13+'９月２１日（祝月）'!L13+'９月２２日（祝火）'!L12+L13 -> 9
B14: 控 審 | C14: 武石 | E14: 控 審 | F14: 大森or山王 | H14: 控 審 | I14: 幕張昆陽 | K14: 合計 | L14: =SUM(L8:L13) -> 13 | M14: =SUM(M8:M13) -> 53
A15: 球 場 | B15: 第１試合 | E15: 第２試合
B16: 低学年２回戦Ｎｏ１８ | C16: 開始９時３０分 | E16: 低学年２回戦Ｎｏ２２ | F16: 開始:１１時３０分
A17: 宮野木ＳＣ | B17: ５．生浜／６．幕西 | D17: 中／美 | E17: ２１．小中台ＪＢＣ | G17: 稲毛 | L17: 審判部用：県大会ノーブル
B18: ８．稲丘ベアーズ | D18: 稲毛 | E18: ２４．磯辺シャークス | G18: 美浜 | L18: 稲毛海浜B面
A19: 球 場 責 任 | B19: 球 審 | C19: 緑区 | E19: 球 審 | F19: 若葉区 | L19: ①9:00 | M19: 縦=中央2名
A20: 青野 | B20: １ 塁 | C20: 磯辺 | E20: １ 塁 | F20: 稲丘 | M20: 横=美浜2名
B21: ２ 塁 | C21: 小中台 | E21: ２ 塁 | F21: 生浜or幕西 | L21: ②11:00 | M21: 縦=花見川2名
A22: 稲毛区 | B22: ３ 塁 | C22: 磯辺 | E22: ３ 塁 | F22: 稲丘 | M22: 横=稲毛2名
B23: 控 審 | C23: 小中台 | E23: 控 審 | F23: 生浜or幕西
A24: 球 場
A26: みつわ台
A28: 球 場 責 任
A29: 白金・岸田
A31: 若葉区
A33: 球 場 | B33: 花見川区連盟 大会で使用予定 （雨天順延がない場合）
A35: 花島公園
A37: 球 場 責 任
A40: 花見川区
A43: ☆ 試合予定チームは、試合予定１時間前迄に球場に到着し、球場責任者に到着報告を行って下さい。
A44: ☆ 駐車台数に限りがあります。近隣路上駐車は厳禁です。応援車両もふくめ乗り合わせにご協力下さい。
A45: ☆ グランドキーパーは全チームでお願い致します。
A46: 第１試合両チームは各２名以上、試合予定１時間前に集合し、グランド作りを行います。（サイズ表事前準備要）
A47: 第２、第３試合両チームはグランド整備後、ゴミ・忘れ物の確認をお願いします。
A48: ☆ ゴミ・空き缶・ペットボトル等の置き去りが最近多くなりました。マナーを守って球場美化にご協力願います。
A49: 各チームで必ずゴミ袋を持参して下さい。

Sheet みつわ台駐車証
C2: みつわ台公園駐車場
D3: 9 | E3: 月 | G3: 日 | H3: （ ）
C4: 秋季中央大会
E5: チーム名
B7: ①
C10: 千葉市少年軟式野球協会
C14: みつわ台公園駐車場
D15: 9 | E15: 月 | G15: 日 | H15: （ ）
C16: 秋季中央大会
E17: チーム名
B19: ②
C22: 千葉市少年軟式野球協会
C27: みつわ台公園駐車場
D28: 9 | E28: 月 | G28: 日 | H28: （ ）
C29: 秋季中央大会
E30: チーム名
B32: ③
C35: 千葉市少年軟式野球協会
C37: みつわ台公園駐車場
D38: 9 | E38: 月 | G38: 日 | H38: （ ）
C39: 秋季中央大会
E40: チーム名
B42: ④
C45: 千葉市少年軟式野球協会
C49: みつわ台公園駐車場
D50: 9 | E50: 月 | G50: 日 | H50: （ ）
C51: 秋季中央大会
E52: チーム名
B54: ⑤
C57: 千葉市少年軟式野球協会
