Workbook

Sheet ９月２３日（祝水）
A1: 第 ５０ 回 秋 季 中 央 大 会 （ ９月２３日 祝・水曜 ）
A2: ４会場 計１０or１１試合 （Ⅱ部３回戦７or８試合、低学年３試合）
A3: 【花島公園第３試合】３試合制で開催します。
A4: 【みつわ台】駐車台数各チーム５台厳守、駐車場混雑対策で第２試合開始（１３時開始）調整
A5: 【みつわ台注意事項（使用時）】第１試合チームは、体育館利用者による混雑前の８時を目途に駐車してください。駐車台数は、各チーム５台（帯同審判を含む）厳守です。公園内の空きスペースにてアップし、９時にグランドイン、１０時試合開始となります。
A6: 【投球数記録係】投球数記録係、試合チーム各１名は、試合前トスの際に集合して下さい。
A7: 球 場 | B7: 第１試合 | E7: 第２試合 | H7: 第３試合 | L7: （県大会含む）
B8: Ⅱ部３回戦Ｎｏ３９ | C8: 開始９時３０分 | E8: Ⅱ部３回戦Ｎｏ３２ | F8: 開始:１１時３０分 | H8: Ⅱ部３回戦Ｎｏ３６ | I8: 開始:１３時３０分 | L8: 審判数
A9: 中田ＳＣ | B9: ４３．磯辺シャークス | D9: 美／稲 | E9: １．ヤング穴川連合 | G9: 稲毛 | H9: ２６．わかしおタイガース | J9: 若／稲 | K9: 中央 | L9: =COUNTIF(B7:J60,"中央区")+2 -> 3
B10: ４７．有吉メッツ | D10: 花／緑 | E10: ４．緑町 | G10: 稲毛 | H10: ３０．あすみが丘コスモスキッド | J10: 花／緑 | K10: 美浜 | L10: =COUNTIF(B7:J60,"美浜区")+2 -> 3
A11: 球 場 責 任 | B11: 球 審 | C11: 若葉区 | E11: 球 審 | F11: 緑区 | H11: 球 審 | I11: 中央区 | K11: 稲毛 | L11: =COUNTIF(B7:J60,"稲毛区")+2 -> 4
A12: 氏家・堀越 | B12: １ 塁 | C12: あすみが丘 | E12: １ 塁 | F12: 有吉 | H12: １ 塁 | I12: 緑町 | K12: 若葉 | L12: =COUNTIF(B7:J60,"若葉区") -> 3
B13: ２ 塁 | C13: わかしお | E13: ２ 塁 | F13: 磯辺 | H13: ２ 塁 | I13: ヤング穴川 | K13: 花見川 | L13: =COUNTIF(B7:J60,"花見川区")+2 -> 3
A14: 若葉区 | B14: ３ 塁 | C14: あすみが丘 | E14: ３ 塁 | F14: 有吉 | H14: ３ 塁 | I14: 緑町 | K14: 緑 | L14: =COUNTIF(B7:J60,"緑区") -> 3
B15: 控 審 | C15: わかしお | E15: 控 審 | F15: 磯辺 | H15: 控 審 | I15: ヤング穴川 | K15: 合計 | L15: =SUM(L9:L14) -> 19
A16: 球 場 | B16: 第１試合 | E16: 第２試合 | H16: 第３試合
B17: 低学年１回戦Ｎｏ１５ | C17: 開始:９時３０分 | E17: 低学年２回戦Ｎｏ１７ | F17: 開始:１１時３０分 | H17: 低学年２回戦Ｎｏ２０ | I17: 開始:１３時３０分
A18: 宮野木ＳＣ | B18: ２９．大森フライヤーズ | D18: 中央 | E18: １．愛生グレート | G18: 若葉 | H18: １３．千城台レッドシャーク | J18: 若葉 | L18: 審判部用：県大会ノーブル
B19: ３０．山王ドジャーズ | D19: 稲毛 | E19: ４．磯辺シーグルス | G19: 美浜 | H19: １６．打瀬ベイバスターズ | J19: 美浜 | L19: 稲毛海浜B面
A20: 球 場 責 任 | B20: 球 審 | C20: 緑区 | E20: 球 審 | F20: 稲毛区 | H20: 球 審 | I20: 稲毛区 | L20: ①9:00 | M20: 縦=中央2名
A21: 青野 | B21: １ 塁 | C21: 打瀬 | E21: １ 塁 | F21: 山王 | H21: １ 塁 | I21: 磯辺 | M21: 横=美浜2名
B22: ２ 塁 | C22: 千城台 | E22: ２ 塁 | F22: 大森 | H22: ２ 塁 | I22: 愛生 | L22: ②11:00 | M22: 縦=花見川2名
A23: 稲毛区 | B23: ３ 塁 | C23: 打瀬 | E23: ３ 塁 | F23: 山王 | H23: ３ 塁 | I23: 磯辺 | M23: 横=稲毛2名
B24: 控 審 | C24: 千城台 | E24: 控 審 | F24: 大森 | H24: 控 審 | I24: 愛生
A25: 球 場 | B25: 第１試合 | E25: 第２試合 | H25: 近隣への迷惑駐車厳禁
B26: Ⅱ部３回戦Ｎｏ３３ | C26: 開始１０時００分 | E26: Ⅱ部３回戦Ｎｏ３４ | F26: 開始:１３時００分
A27: みつわ台 | B27: ８．泉谷メッツ | D27: 緑／稲 | E27: １４．土気グリーンウエーブ | G27: 花／緑 | H27: 駐車台数：各チーム５台厳守 （帯同審判含む）
B28: １１．真砂シーホークス | D28: 美／若 | E28: １７．小中台ＪＢＣ | G28: 若／稲
A29: 球 場 責 任 | B29: 球 審 | C29: 花見川区 | E29: 球 審 | F29: 美浜区 | H29: 駐車証を掲示してください
A30: 白金・岸田 | B30: １ 塁 | C30: 小中台 | E30: １ 塁 | F30: 真砂 | H30: 各チーム・審判も含め乗合せにご協力下さい。
B31: ２ 塁 | C31: 土気 | E31: ２ 塁 | F31: 泉谷
A32: 若葉区 | B32: ３ 塁 | C32: 小中台 | E32: ３ 塁 | F32: 真砂
B33: 控 審 | C33: 土気 | E33: 控 審 | F33: 泉谷
A34: 球 場 | B34: 第１試合 | E34: 第２試合 | H34: 第３試合
B35: Ⅱ部３回戦Ｎｏ３７ | C35: 開始９時３０分 | E35: Ⅱ部３回戦Ｎｏ２２ | F35: 開始:１１時３０分 | H35: Ⅱ部３回戦Ｎｏ２２ | I35: 開始:１３時３０分
A36: 花島公園 | B36: ３１．平川ファイターズ | D36: 緑／中 | E36: １９．幕張ヒーローズ | G36: 花／緑 | H36: ３７．花輪ユナイト | J36: 中央
B37: ３５．花見川ツインズ | D37: 花／美 | E37: ２４．打瀬ベイバスターズ | G37: 中／美 | H37: ４１．武石ブルーサンダー | J37: 花見川
A38: 球 場 責 任 | B38: 球 審 | C38: 若葉区 | E38: 球 審 | F38: 若葉区 | H38: 球 審 | I38: 緑区
A39: 髙橋・齋藤 | B39: １ 塁 | C39: 武石 | E39: １ 塁 | F39: 花見川 | H39: １ 塁 | I39: 打瀬
B40: ２ 塁 | C40: 花輪 | E40: ２ 塁 | F40: 平川 | H40: ２ 塁 | I40: 幕張
A41: 花見川区 | B41: ３ 塁 | C41: 武石 | E41: ３ 塁 | F41: 花見川 | H41: ３ 塁 | I41: 打瀬
B42: 控 審 | C42: 花輪 | E42: 控 審 | F42: 平川 | H42: 控 審 | I42: 幕張
A44: ☆ 試合予定チームは、試合予定１時間前迄に球場に到着し、球場責任者に到着報告を行って下さい。
A45: ☆ 駐車台数に限りがあります。近隣路上駐車は厳禁です。応援車両もふくめ乗り合わせにご協力下さい。
A46: ☆ グランドキーパーは全チームでお願い致します。
A47: 第１試合両チームは各２名以上、試合予定１時間前に集合し、グランド作りを行います。（サイズ表事前準備要）
A48: 第２、第３試合両チームはグランド整備後、ゴミ・忘れ物の確認をお願いします。
A49: ☆ ゴミ・空き缶・ペットボトル等の置き去りが最近多くなりました。マナーを守って球場美化にご協力願います。
A50: 各チームで必ずゴミ袋を持参して下さい。

Sheet ９月２６日（土）
A1: 第 ５０ 回 秋 季 中 央 大 会 （ ９月２６日 土曜 ）
A2: ２会場 計５試合 （低学年５試合）
A3: 【幕張西スポーツ広場】駐車台数は、各チーム５台厳守
A4: 【投球数記録係】投球数記録係、試合チーム各１名は、試合前トスの際に集合して下さい。 | K4: マリーンズ杯１日目
A5: 球 場 | B5: 第１試合 | E5: 第２試合 | H5: 第３試合
B6: 低学年２回戦Ｎｏ２４ | C6: 開始９時３０分 | E6: 低学年１回戦Ｎｏ６ | F6: 開始１１時３０分 | H6: 低学年２回戦Ｎｏ２１ | I6: 開始:１３時３０分 | L6: 審判数 | M6: 22～26日審判
A7: 平川球場 | B7: ２９．大森／３０．山王 | D7: 中／稲 | E7: １１．稲荷・花輪連合 | G7: 中央 | H7: １７．ミヤコリトルベアーズ | J7: 中央 | K7: 中央 | L7: =COUNTIF(B5:J58,"中央区") -> 1 | M7: =#REF!+'９月２３日（祝水）'!L9+'９月２６日（土）'!L7 -> #REF!
B8: ３２．平川ファイターズ | D8: 緑 | E8: １２．泉谷メッツ | G8: 緑 | H8: ２０．有吉メッツ | J8: 緑 | K8: 美浜 | L8: =COUNTIF(B5:J58,"美浜区") -> 1 | M8: =#REF!+'９月２３日（祝水）'!L10+'９月２６日（土）'!L8 -> #REF!
A9: 球 場 責 任 | B9: 球 審 | C9: 若葉区 | E9: 球 審 | F9: 稲毛区 | H9: 球 審 | I9: 美浜区 | K9: 稲毛 | L9: =COUNTIF(B5:J58,"稲毛区") -> 1 | M9: =#REF!+'９月２３日（祝水）'!L11+'９月２６日（土）'!L9 -> #REF!
A10: 大塚・戸村 | B10: １ 塁 | C10: 有吉 | E10: １ 塁 | F10: 平川 | H10: １ 塁 | I10: 泉谷 | K10: 若葉 | L10: =COUNTIF(B5:J58,"若葉区") -> 1 | M10: =#REF!+'９月２３日（祝水）'!L12+'９月２６日（土）'!L10 -> #REF!
B11: ２ 塁 | C11: ミヤコ | E11: ２ 塁 | F11: 大森or山王 | H11: ２ 塁 | I11: 稲荷花輪 | K11: 花見川 | L11: =COUNTIF(B5:J58,"花見川区") -> 1 | M11: =#REF!+'９月２３日（祝水）'!L13+'９月２６日（土）'!L11 -> #REF!
A12: 緑区 | B12: ３ 塁 | C12: 有吉 | E12: ３ 塁 | F12: 平川 | H12: ３ 塁 | I12: 泉谷 | K12: 緑 | L12: =COUNTIF(B5:J58,"緑区") -> 0 | M12: =#REF!+'９月２３日（祝水）'!L14+'９月２６日（土）'!L12 -> #REF!
B13: 控 審 | C13: ミヤコ | E13: 控 審 | F13: 大森or山王 | H13: 控 審 | I13: 稲荷花輪 | K13: 合計 | L13: =SUM(L7:L12) -> 5 | M13: =SUM(M7:M12) -> #REF!
A14: 球 場 | B14: 第１試合 | E14: 第２試合 | H14: 近隣への迷惑駐車厳禁
B15: 低学年２回戦Ｎｏ３ | C15: 開始:１２時３０分 | E15: 低学年１回戦Ｎｏ１４ | F15: 開始１４時３０分
A16: 幕張西 スポーツ広場 | B16: ５．生浜ヤンキース | D16: 中央 | E16: ２７．いなげパイレーツ | G16: 稲毛 | H16: 駐車台数：各チーム５台厳守 （帯同審判含む）
B17: ６．幕西ファイヤーズ | D17: 美浜 | E17: ２８．小倉台ライガース | G17: 若葉
A18: 球 場 責 任 | B18: 球 審 | C18: 花見川区 | E18: 球 審 | F18: 中央区
A19: 小島・佐藤修 | B19: １ 塁 | C19: 小倉台 | E19: １ 塁 | F19: 幕西 | H19: 各チーム・審判も含め乗合せにご協力下さい。
B20: ２ 塁 | C20: いなげ | E20: ２ 塁 | F20: 生浜
A21: 美浜区 | B21: ３ 塁 | C21: 小倉台 | E21: ３ 塁 | F21: 幕西
B22: 控 審 | C22: いなげ | E22: 控 審 | F22: 生浜
A24: ☆ 試合予定チームは、試合予定１時間前迄に球場に到着し、球場責任者に到着報告を行って下さい。
A25: ☆ 駐車台数に限りがあります。近隣路上駐車は厳禁です。応援車両もふくめ乗り合わせにご協力下さい。
A26: ☆ グランドキーパーは全チームでお願い致します。
A27: 第１試合両チームは各２名以上、試合予定１時間前に集合し、グランド作りを行います。（サイズ表事前準備要）
A28: 第２、第３試合両チームはグランド整備後、ゴミ・忘れ物の確認をお願いします。
A29: ☆ ゴミ・空き缶・ペットボトル等の置き去りが最近多くなりました。マナーを守って球場美化にご協力願います。
A30: 各チームで必ずゴミ袋を持参して下さい。

Sheet みつわ台駐車証
C2: みつわ台公園駐車場
D3: 9 | E3: 月 | G3: 日 | H3: （ ）
C4: 秋季中央大会
E5: チーム名
B7: ①
C10: 千葉市少年軟式野球協会
C14: みつわ台公園駐車場
D15: 9 | E15: 月 | G15: 日 | H15: （ ）
C16: 秋季中央大会
E17: チーム名
B19: ②
C22: 千葉市少年軟式野球協会
C27: みつわ台公園駐車場
D28: 9 | E28: 月 | G28: 日 | H28: （ ）
C29: 秋季中央大会
E30: チーム名
B32: ③
C35: 千葉市少年軟式野球協会
C37: みつわ台公園駐車場
D38: 9 | E38: 月 | G38: 日 | H38: （ ）
C39: 秋季中央大会
E40: チーム名
B42: ④
C45: 千葉市少年軟式野球協会
C49: みつわ台公園駐車場
D50: 9 | E50: 月 | G50: 日 | H50: （ ）
C51: 秋季中央大会
E52: チーム名
B54: ⑤
C57: 千葉市少年軟式野球協会
